BEGIN:VCALENDAR
VERSION:2.0
PRODID:-//Epiacum Heritage - ECPv6.15.20//NONSGML v1.0//EN
CALSCALE:GREGORIAN
METHOD:PUBLISH
X-WR-CALNAME:Epiacum Heritage
X-ORIGINAL-URL:https://epiacumheritage.org
X-WR-CALDESC:Events for Epiacum Heritage
REFRESH-INTERVAL;VALUE=DURATION:PT1H
X-Robots-Tag:noindex
X-PUBLISHED-TTL:PT1H
BEGIN:VTIMEZONE
TZID:Europe/London
BEGIN:DAYLIGHT
TZOFFSETFROM:+0000
TZOFFSETTO:+0100
TZNAME:BST
DTSTART:20230326T010000
END:DAYLIGHT
BEGIN:STANDARD
TZOFFSETFROM:+0100
TZOFFSETTO:+0000
TZNAME:GMT
DTSTART:20231029T010000
END:STANDARD
BEGIN:DAYLIGHT
TZOFFSETFROM:+0000
TZOFFSETTO:+0100
TZNAME:BST
DTSTART:20240331T010000
END:DAYLIGHT
BEGIN:STANDARD
TZOFFSETFROM:+0100
TZOFFSETTO:+0000
TZNAME:GMT
DTSTART:20241027T010000
END:STANDARD
BEGIN:DAYLIGHT
TZOFFSETFROM:+0000
TZOFFSETTO:+0100
TZNAME:BST
DTSTART:20250330T010000
END:DAYLIGHT
BEGIN:STANDARD
TZOFFSETFROM:+0100
TZOFFSETTO:+0000
TZNAME:GMT
DTSTART:20251026T010000
END:STANDARD
END:VTIMEZONE
BEGIN:VEVENT
DTSTART;TZID=Europe/London:20240901T080000
DTEND;TZID=Europe/London:20240901T170000
DTSTAMP:20260422T144652
CREATED:20240901T202500Z
LAST-MODIFIED:20240901T202504Z
UID:3850-1725177600-1725210000@epiacumheritage.org
SUMMARY:Epi-sheep has arrived!
DESCRIPTION:Epiacum Heritage and the Nook Farm Shop and Café are pleased to host one of the Illuminated Sheep from the Hadrian’s Wall Arts Trail 2024 which returns to Northumberland as the now famous flock form a new Art Trail from the East to West of Hadrian’s Wall.
URL:https://epiacumheritage.org/event/epi-sheep-has-arrived/
ATTACH;FMTTYPE=image/jpeg:https://epiacumheritage.org/wp-content/uploads/2024/09/IMG_20240830_185029-scaled.jpg
END:VEVENT
END:VCALENDAR