BEGIN:VCALENDAR
VERSION:2.0
PRODID:-//Epiacum Heritage - ECPv6.15.20//NONSGML v1.0//EN
CALSCALE:GREGORIAN
METHOD:PUBLISH
X-ORIGINAL-URL:https://epiacumheritage.org
X-WR-CALDESC:Events for Epiacum Heritage
REFRESH-INTERVAL;VALUE=DURATION:PT1H
X-Robots-Tag:noindex
X-PUBLISHED-TTL:PT1H
BEGIN:VTIMEZONE
TZID:Europe/London
BEGIN:DAYLIGHT
TZOFFSETFROM:+0000
TZOFFSETTO:+0100
TZNAME:BST
DTSTART:20220327T010000
END:DAYLIGHT
BEGIN:STANDARD
TZOFFSETFROM:+0100
TZOFFSETTO:+0000
TZNAME:GMT
DTSTART:20221030T010000
END:STANDARD
BEGIN:DAYLIGHT
TZOFFSETFROM:+0000
TZOFFSETTO:+0100
TZNAME:BST
DTSTART:20230326T010000
END:DAYLIGHT
BEGIN:STANDARD
TZOFFSETFROM:+0100
TZOFFSETTO:+0000
TZNAME:GMT
DTSTART:20231029T010000
END:STANDARD
BEGIN:DAYLIGHT
TZOFFSETFROM:+0000
TZOFFSETTO:+0100
TZNAME:BST
DTSTART:20240331T010000
END:DAYLIGHT
BEGIN:STANDARD
TZOFFSETFROM:+0100
TZOFFSETTO:+0000
TZNAME:GMT
DTSTART:20241027T010000
END:STANDARD
END:VTIMEZONE
BEGIN:VEVENT
DTSTART;TZID=Europe/London:20230406T100000
DTEND;TZID=Europe/London:20230406T160000
DTSTAMP:20260423T194801
CREATED:20231012T192622Z
LAST-MODIFIED:20231012T192622Z
UID:3527-1680775200-1680796800@epiacumheritage.org
SUMMARY:Molehill Survey 2023 - Day One
DESCRIPTION:For more information on the event please see the project page here
URL:https://epiacumheritage.org/event/molehill-survey-2023-day-one/
END:VEVENT
BEGIN:VEVENT
DTSTART;TZID=Europe/London:20230407T100000
DTEND;TZID=Europe/London:20230407T160000
DTSTAMP:20260423T194801
CREATED:20231012T192753Z
LAST-MODIFIED:20231012T192753Z
UID:3529-1680861600-1680883200@epiacumheritage.org
SUMMARY:Molehill Survey 2023 - Day Two
DESCRIPTION:For more information on the event please see the project page here
URL:https://epiacumheritage.org/event/molehill-survey-2023-day-two/
END:VEVENT
BEGIN:VEVENT
DTSTART;TZID=Europe/London:20230408T080000
DTEND;TZID=Europe/London:20230408T170000
DTSTAMP:20260423T194801
CREATED:20231012T192843Z
LAST-MODIFIED:20231012T192843Z
UID:3531-1680940800-1680973200@epiacumheritage.org
SUMMARY:Molehill Survey 2023 - Day Three
DESCRIPTION:For more information on the event please see the project page here
URL:https://epiacumheritage.org/event/molehill-survey-2023-day-three/
END:VEVENT
BEGIN:VEVENT
DTSTART;TZID=Europe/London:20230421T100000
DTEND;TZID=Europe/London:20230421T160000
DTSTAMP:20260423T194801
CREATED:20231012T193148Z
LAST-MODIFIED:20231012T193148Z
UID:3533-1682071200-1682092800@epiacumheritage.org
SUMMARY:Molehill Survey 2023 - Day Four
DESCRIPTION:For more information on the event please see the project page here
URL:https://epiacumheritage.org/event/molehill-survey-2023-day-four/
END:VEVENT
BEGIN:VEVENT
DTSTART;TZID=Europe/London:20230422T100000
DTEND;TZID=Europe/London:20230422T160000
DTSTAMP:20260423T194801
CREATED:20231012T193244Z
LAST-MODIFIED:20231012T193244Z
UID:3535-1682157600-1682179200@epiacumheritage.org
SUMMARY:Molehill Survey 2023 - Day Five
DESCRIPTION:For more information on the event please see the project page here
URL:https://epiacumheritage.org/event/molehill-survey-2023-day-five/
END:VEVENT
END:VCALENDAR