BEGIN:VCALENDAR
VERSION:2.0
PRODID:-//Epiacum Heritage - ECPv6.15.20//NONSGML v1.0//EN
CALSCALE:GREGORIAN
METHOD:PUBLISH
X-WR-CALNAME:Epiacum Heritage
X-ORIGINAL-URL:https://epiacumheritage.org
X-WR-CALDESC:Events for Epiacum Heritage
REFRESH-INTERVAL;VALUE=DURATION:PT1H
X-Robots-Tag:noindex
X-PUBLISHED-TTL:PT1H
BEGIN:VTIMEZONE
TZID:Europe/London
BEGIN:DAYLIGHT
TZOFFSETFROM:+0000
TZOFFSETTO:+0100
TZNAME:BST
DTSTART:20210328T010000
END:DAYLIGHT
BEGIN:STANDARD
TZOFFSETFROM:+0100
TZOFFSETTO:+0000
TZNAME:GMT
DTSTART:20211031T010000
END:STANDARD
BEGIN:DAYLIGHT
TZOFFSETFROM:+0000
TZOFFSETTO:+0100
TZNAME:BST
DTSTART:20220327T010000
END:DAYLIGHT
BEGIN:STANDARD
TZOFFSETFROM:+0100
TZOFFSETTO:+0000
TZNAME:GMT
DTSTART:20221030T010000
END:STANDARD
BEGIN:DAYLIGHT
TZOFFSETFROM:+0000
TZOFFSETTO:+0100
TZNAME:BST
DTSTART:20230326T010000
END:DAYLIGHT
BEGIN:STANDARD
TZOFFSETFROM:+0100
TZOFFSETTO:+0000
TZNAME:GMT
DTSTART:20231029T010000
END:STANDARD
END:VTIMEZONE
BEGIN:VEVENT
DTSTART;TZID=Europe/London:20220812T190000
DTEND;TZID=Europe/London:20220814T160000
DTSTAMP:20260424T123123
CREATED:20231013T133627Z
LAST-MODIFIED:20231013T140752Z
UID:3552-1660330800-1660492800@epiacumheritage.org
SUMMARY:Landscape Masterclass - Reading the landscape
DESCRIPTION:Epiacum Heritage are delighted to announce the return of Landscape Masterclasses postponed since 2019 due to Covid 19.\n\n\n\nOur popular Basic Landscape Masterclass\, hosted by Epiacum Heritage in partnership with SharedPast\, will be held over the weekend of 12th – 14th August 2022. The weekend will follow the usual format of a Friday evening presentation and meal followed by two days on the Roman Fort of Epiacum. The course will conclude mid to late afternoon on the Sunday. \n\n\n\n \n\n\n\n		\n			\n			\n		\n\n		\n  \n\n\n\n \n\n\n\nCan we remind all attendees to come equipped with appropriate clothing to cope with the North Pennines climate!\n\n\n\nWe are taking bookings for this event now. Please download the application form below and follow the instructions on the document. \n\n\n\nWe are expecting a high demand for this course\, places will be allocated on a first come first served basis which is defined as a completed application form and receipt of deposit. Upon receipt of a completed booking form we will send you details of how to pay your deposit. \n\n\n\nOnce the course is full we may allow a few more bookings (without the need for a deposit) to form a reserve list in case of any future withdrawals from the course. \n\n\n\n \n\n\n\nApplication Form\n\n\n\n		\n			\n			\n		\n\n		\n  \n\n\n\n \n\n\n\nYou can download the application form using the link below \n\n\n\nDownload Application Form
URL:https://epiacumheritage.org/event/landscape-masterclass-reading-the-landscape/
END:VEVENT
BEGIN:VEVENT
DTSTART;TZID=Europe/London:20220513T190000
DTEND;TZID=Europe/London:20220515T160000
DTSTAMP:20260424T123123
CREATED:20231013T140458Z
LAST-MODIFIED:20231013T141211Z
UID:3562-1652468400-1652630400@epiacumheritage.org
SUMMARY:Landscape Masterclass - Seeing beneath the landscape
DESCRIPTION:Epiacum Heritage are delighted to announce the return of Landscape Masterclasses postponed since 2019 due to Covid 19.   \n\n\n\nOur first event\, a Geophysics Masterclass in partnership with SharedPast\, in May 2022 is already FULLY BOOKED with applicants from the courses for the 2019 season. \n\n\n\n		\n			\n			\n		\n\n		\n  \n\n\n\n \n\n\n\nThe course will run over the weekend of 13th/14th/15th May 2022. The weekend will follow the usual format of a Friday evening presentation and meal followed by two days on the Roman Fort of Epiacum. The course will conclude mid to late afternoon on the Sunday. \n\n\n\nCan we remind all attendees to come equipped with appropriate clothing to cope with the North Pennines climate! \n\n\n\nOur second event\, our popular Basic Landscape Masterclass\, is scheduled for 12th – 14th August 2022\, see here more details. We are taking bookings for this event now.
URL:https://epiacumheritage.org/event/landscape-masterclass-seeing-beneath-the-landscape/
END:VEVENT
END:VCALENDAR