BEGIN:VCALENDAR
VERSION:2.0
PRODID:-//Epiacum Heritage - ECPv6.15.20//NONSGML v1.0//EN
CALSCALE:GREGORIAN
METHOD:PUBLISH
X-WR-CALNAME:Epiacum Heritage
X-ORIGINAL-URL:https://epiacumheritage.org
X-WR-CALDESC:Events for Epiacum Heritage
REFRESH-INTERVAL;VALUE=DURATION:PT1H
X-Robots-Tag:noindex
X-PUBLISHED-TTL:PT1H
BEGIN:VTIMEZONE
TZID:Europe/London
BEGIN:DAYLIGHT
TZOFFSETFROM:+0000
TZOFFSETTO:+0100
TZNAME:BST
DTSTART:20250330T010000
END:DAYLIGHT
BEGIN:STANDARD
TZOFFSETFROM:+0100
TZOFFSETTO:+0000
TZNAME:GMT
DTSTART:20251026T010000
END:STANDARD
BEGIN:DAYLIGHT
TZOFFSETFROM:+0000
TZOFFSETTO:+0100
TZNAME:BST
DTSTART:20260329T010000
END:DAYLIGHT
BEGIN:STANDARD
TZOFFSETFROM:+0100
TZOFFSETTO:+0000
TZNAME:GMT
DTSTART:20261025T010000
END:STANDARD
BEGIN:DAYLIGHT
TZOFFSETFROM:+0000
TZOFFSETTO:+0100
TZNAME:BST
DTSTART:20270328T010000
END:DAYLIGHT
BEGIN:STANDARD
TZOFFSETFROM:+0100
TZOFFSETTO:+0000
TZNAME:GMT
DTSTART:20271031T010000
END:STANDARD
END:VTIMEZONE
BEGIN:VEVENT
DTSTART;TZID=Europe/London:20260423T193000
DTEND;TZID=Europe/London:20260423T210000
DTSTAMP:20260420T122739
CREATED:20260322T064248Z
LAST-MODIFIED:20260416T081138Z
UID:4000-1776972600-1776978000@epiacumheritage.org
SUMMARY:Rethinking Excavation at Epiacum
DESCRIPTION:Richard Carlton: Visiting Fellow Archaeologist\, Newcastle University \n\n\n\nRethinking excavation at Epiacum. \n\n\n\nAll talks will start at 7:30pm and be held at The Nook Farm Shop and Café\, CA9 3BG  \n\n\n\nTickets are not required but a minimum £5 donation on the door would be appreciated. Places can be booked via info@epiacumheritage.org or by phoning Elaine on 07921858126. 
URL:https://epiacumheritage.org/event/rethinking-excavation-at-epiacum/
ATTACH;FMTTYPE=image/jpeg:https://epiacumheritage.org/wp-content/uploads/2026/03/R-Carlton-Talk-.jpg
END:VEVENT
BEGIN:VEVENT
DTSTART;TZID=Europe/London:20260528T193000
DTEND;TZID=Europe/London:20260528T210000
DTSTAMP:20260420T122739
CREATED:20260322T064458Z
LAST-MODIFIED:20260322T065834Z
UID:4002-1779996600-1780002000@epiacumheritage.org
SUMMARY:Birdoswald 1987-2025: An Overview
DESCRIPTION:Tony Wilmott: Former Senior Archaeologist with Historic England  \n\n\n\nBirdoswald 1987 ~ 2025 An Overview. \n\n\n\nAll talks will start at 7:30pm and be held at The Nook Farm Shop and Café\, CA9 3BG  \n\n\n\nTickets are not required but a minimum £5 donation on the door would be appreciated. Places can be booked via info@epiacumheritage.org or by phoning Elaine on 07921858126. 
URL:https://epiacumheritage.org/event/birdoswald-1987-2025-an-overview/
END:VEVENT
BEGIN:VEVENT
DTSTART;TZID=Europe/London:20260625T193000
DTEND;TZID=Europe/London:20260625T210000
DTSTAMP:20260420T122739
CREATED:20260322T064610Z
LAST-MODIFIED:20260322T065800Z
UID:4004-1782415800-1782421200@epiacumheritage.org
SUMMARY:The Land of Lead and Silver
DESCRIPTION:Andie Harris: Project Manager North Pennines National Landscape \n\n\n\nThe Land of Lead and Silver. \n\n\n\nAll talks will start at 7:30pm and be held at The Nook Farm Shop and Café\, CA9 3BG  \n\n\n\nTickets are not required but a minimum £5 donation on the door would be appreciated. Places can be booked via info@epiacumheritage.org or by phoning Elaine on 07921858126. 
URL:https://epiacumheritage.org/event/the-land-of-lead-and-silver/
END:VEVENT
BEGIN:VEVENT
DTSTART;TZID=Europe/London:20260723T193000
DTEND;TZID=Europe/London:20260723T210000
DTSTAMP:20260420T122739
CREATED:20260322T064820Z
LAST-MODIFIED:20260322T065730Z
UID:4006-1784835000-1784840400@epiacumheritage.org
SUMMARY:Moles\, Molehills and Finds
DESCRIPTION:Fran Breen: Research\, Fundraising and Comms Manager Solent University  \n\n\n\nMoles\, molehills and finds ~ all about our molehill surveys.  \n\n\n\nAll talks will start at 7:30pm and be held at The Nook Farm Shop and Café\, CA9 3BG  \n\n\n\nTickets are not required but a minimum £5 donation on the door would be appreciated. Places can be booked via info@epiacumheritage.org or by phoning Elaine on 07921858126. 
URL:https://epiacumheritage.org/event/moles-molehills-and-finds/
END:VEVENT
BEGIN:VEVENT
DTSTART;TZID=Europe/London:20260924T193000
DTEND;TZID=Europe/London:20260924T210000
DTSTAMP:20260420T122739
CREATED:20260322T064957Z
LAST-MODIFIED:20260401T204515Z
UID:4008-1790278200-1790283600@epiacumheritage.org
SUMMARY:Life as a Student Archaeologist
DESCRIPTION:Wilf Bazley: Undergraduate Archaeologist\, University College London  \n\n\n\nLife as a student archaeologist. \n\n\n\nAll talks will start at 7:30pm and be held at The Nook Farm Shop and Café\, CA9 3BG. \n\n\n\nTickets are not required but a minimum £5 donation on the door would be appreciated. Places can be booked via info@epiacumheritage.org or by phoning Elaine on 07921858126. 
URL:https://epiacumheritage.org/event/life-as-a-student-archaeologist/
END:VEVENT
BEGIN:VEVENT
DTSTART;TZID=Europe/London:20261029T193000
DTEND;TZID=Europe/London:20261029T210000
DTSTAMP:20260420T122739
CREATED:20260322T065112Z
LAST-MODIFIED:20260401T204445Z
UID:4011-1793302200-1793307600@epiacumheritage.org
SUMMARY:World Heritage of the Roman Frontiers - exploring a bigger picture for Epiacum
DESCRIPTION:Nigel Mills: Heritage Consultant \n\n\n\nWorld Heritage of the Roman Frontiers – exploring a bigger picture for Epiacum \n\n\n\nAll talks will start at 7:30pm and be held at The Nook Farm Shop and Café\, CA9 3BG  \n\n\n\nTickets are not required but a minimum £5 donation on the door would be appreciated. Places can be booked via info@epiacumheritage.org or by phoning Elaine on 07921858126. 
URL:https://epiacumheritage.org/event/frontiers-of-the-roman-empire/
END:VEVENT
END:VCALENDAR