BEGIN:VCALENDAR
VERSION:2.0
PRODID:-//Epiacum Heritage - ECPv6.15.20//NONSGML v1.0//EN
CALSCALE:GREGORIAN
METHOD:PUBLISH
X-WR-CALNAME:Epiacum Heritage
X-ORIGINAL-URL:https://epiacumheritage.org
X-WR-CALDESC:Events for Epiacum Heritage
REFRESH-INTERVAL;VALUE=DURATION:PT1H
X-Robots-Tag:noindex
X-PUBLISHED-TTL:PT1H
BEGIN:VTIMEZONE
TZID:Europe/London
BEGIN:DAYLIGHT
TZOFFSETFROM:+0000
TZOFFSETTO:+0100
TZNAME:BST
DTSTART:20230326T010000
END:DAYLIGHT
BEGIN:STANDARD
TZOFFSETFROM:+0100
TZOFFSETTO:+0000
TZNAME:GMT
DTSTART:20231029T010000
END:STANDARD
BEGIN:DAYLIGHT
TZOFFSETFROM:+0000
TZOFFSETTO:+0100
TZNAME:BST
DTSTART:20240331T010000
END:DAYLIGHT
BEGIN:STANDARD
TZOFFSETFROM:+0100
TZOFFSETTO:+0000
TZNAME:GMT
DTSTART:20241027T010000
END:STANDARD
BEGIN:DAYLIGHT
TZOFFSETFROM:+0000
TZOFFSETTO:+0100
TZNAME:BST
DTSTART:20250330T010000
END:DAYLIGHT
BEGIN:STANDARD
TZOFFSETFROM:+0100
TZOFFSETTO:+0000
TZNAME:GMT
DTSTART:20251026T010000
END:STANDARD
END:VTIMEZONE
BEGIN:VEVENT
DTSTART;TZID=Europe/London:20240725T000000
DTEND;TZID=Europe/London:20240726T235959
DTSTAMP:20260422T195142
CREATED:20240630T062152Z
LAST-MODIFIED:20240630T101224Z
UID:3796-1721865600-1722038399@epiacumheritage.org
SUMMARY:Festival of Archaeology
DESCRIPTION:Epiacum Heritage is pleased to be able to contribute to the nationwide “Festival of Archaeology” event. We have two days of activity planned on site at the Roman fort of Epiacum. \n\n\n\nPlease see the attached flyer for details. \n\n\n\nTrustees and volunteers will be available to share our recent progress plus offer guided walks and activities across the two days.  Why not pop in and say hello?  \n\n\n\nIf you’re at all able to\, please come and be part of our event. We will be sharing an update here for those that are unable to attend . 
URL:https://epiacumheritage.org/event/festival-of-archaeology/
LOCATION:Epiacum Roman Fort\, Epiacum Roman Fort\, Kirkhaugh\, Northumberland\, CA9 3BG\, United Kingdom
ATTACH;FMTTYPE=image/jpeg:https://epiacumheritage.org/wp-content/uploads/2024/06/IMG_1043.jpeg
END:VEVENT
END:VCALENDAR